BEGIN:VCALENDAR
VERSION:2.0
PRODID:-//Plone.org//NONSGML plone.app.event//EN
X-WR-TIMEZONE:Europe/Berlin
BEGIN:VEVENT
SUMMARY:Helbock-Dietrich-Vogel Trio (hdv Trio)
DTSTART;TZID=Europe/Berlin:20070113T203000
DTSTAMP:20260422T040406Z
UID:b4def535a5ed4357b794513c23d20645@zmi.spielboden.at
CREATED:20120822T144846Z
DESCRIPTION:CD-PRÄSENTATION: „Celebrating modern Genius“
LAST-MODIFIED:20210809T123905Z
URL:https://zmi.spielboden.at/Plone/veranstaltungen/2007/01_jaenner/2007-0
 1-13-20-30-helbock-dietrich-vogel-trio-hdv-trio
END:VEVENT
BEGIN:VTIMEZONE
TZID:Europe/Berlin
X-LIC-LOCATION:Europe/Berlin
BEGIN:STANDARD
DTSTART:20061029T020000
TZNAME:CET
TZOFFSETFROM:+0200
TZOFFSETTO:+0100
END:STANDARD
END:VTIMEZONE
END:VCALENDAR
