BEGIN:VCALENDAR
VERSION:2.0
PRODID:-//Plone.org//NONSGML plone.app.event//EN
X-WR-TIMEZONE:Europe/Berlin
BEGIN:VEVENT
SUMMARY:Elvis Presley Night
DTSTART;TZID=Europe/Berlin:20070112T210000
DTSTAMP:20260422T052406Z
UID:bef948d6633a425ea622790be4a3830a@zmi.spielboden.at
CREATED:20120822T144849Z
LAST-MODIFIED:20210809T123905Z
URL:https://zmi.spielboden.at/Plone/veranstaltungen/2007/01_jaenner/2007-0
 1-12-21-00-elvis-presley-night
END:VEVENT
BEGIN:VTIMEZONE
TZID:Europe/Berlin
X-LIC-LOCATION:Europe/Berlin
BEGIN:STANDARD
DTSTART:20061029T020000
TZNAME:CET
TZOFFSETFROM:+0200
TZOFFSETTO:+0100
END:STANDARD
END:VTIMEZONE
END:VCALENDAR
