BEGIN:VCALENDAR
VERSION:2.0
PRODID:-//Plone.org//NONSGML plone.app.event//EN
X-WR-TIMEZONE:Europe/Berlin
BEGIN:VEVENT
SUMMARY:RESFEST – A Decade of Resfest
DTSTART;TZID=Europe/Berlin:20070112T203000
DTSTAMP:20260422T040446Z
UID:07b3e9d3d6554fedba279cb0eeb0d807@zmi.spielboden.at
CREATED:20120822T144853Z
DESCRIPTION:10 Seminal Short Films
LAST-MODIFIED:20210809T123629Z
URL:https://zmi.spielboden.at/Plone/veranstaltungen/2007/01_jaenner/2007-0
 1-12-20-30-resfest-2013-a-decade-of-resfest
END:VEVENT
BEGIN:VTIMEZONE
TZID:Europe/Berlin
X-LIC-LOCATION:Europe/Berlin
BEGIN:STANDARD
DTSTART:20061029T020000
TZNAME:CET
TZOFFSETFROM:+0200
TZOFFSETTO:+0100
END:STANDARD
END:VTIMEZONE
END:VCALENDAR
