BEGIN:VCALENDAR
VERSION:2.0
PRODID:-//Plone.org//NONSGML plone.app.event//EN
X-WR-TIMEZONE:Europe/Berlin
BEGIN:VEVENT
SUMMARY:Fokuhila Live
DTSTART;TZID=Europe/Berlin:20070104T210000
DTSTAMP:20260422T034942Z
UID:d68e2efaac1e4261856b5b945a18a26a@zmi.spielboden.at
CREATED:20120822T144851Z
DESCRIPTION:Wo die Musi spielt
LAST-MODIFIED:20210809T123628Z
URL:https://zmi.spielboden.at/Plone/veranstaltungen/2007/01_jaenner/2007-0
 1-04-21-00-fokuhila-live
END:VEVENT
BEGIN:VTIMEZONE
TZID:Europe/Berlin
X-LIC-LOCATION:Europe/Berlin
BEGIN:STANDARD
DTSTART:20061029T020000
TZNAME:CET
TZOFFSETFROM:+0200
TZOFFSETTO:+0100
END:STANDARD
END:VTIMEZONE
END:VCALENDAR
