BEGIN:VCALENDAR
VERSION:2.0
PRODID:-//Plone.org//NONSGML plone.app.event//EN
X-WR-TIMEZONE:Europe/Berlin
BEGIN:VEVENT
SUMMARY:Fatima Spar und die Freedom Fries
DTSTART;TZID=Europe/Berlin:20061229T210000
DTSTAMP:20260422T035100Z
UID:7c937db7506a4a4f86236d8a1459d8e3@zmi.spielboden.at
CREATED:20120822T144842Z
DESCRIPTION: 
LAST-MODIFIED:20210809T123903Z
URL:https://zmi.spielboden.at/Plone/veranstaltungen/2006/12_dezember/2006-
 12-29-21-00-fatima-spar-und-die-freedom-fries
END:VEVENT
BEGIN:VTIMEZONE
TZID:Europe/Berlin
X-LIC-LOCATION:Europe/Berlin
BEGIN:STANDARD
DTSTART:20061029T020000
TZNAME:CET
TZOFFSETFROM:+0200
TZOFFSETTO:+0100
END:STANDARD
END:VTIMEZONE
END:VCALENDAR
