BEGIN:VCALENDAR
VERSION:2.0
PRODID:-//Plone.org//NONSGML plone.app.event//EN
X-WR-TIMEZONE:Europe/Berlin
BEGIN:VEVENT
SUMMARY:Kotsch – Woanders is a net anders
DTSTART;TZID=Europe/Berlin:20061229T203000
DTSTAMP:20260422T051817Z
UID:6c186533175543ffbbb97d62056ed3fa@zmi.spielboden.at
CREATED:20120822T144842Z
DESCRIPTION:Komödie
LAST-MODIFIED:20210809T123903Z
URL:https://zmi.spielboden.at/Plone/veranstaltungen/2006/12_dezember/2006-
 12-29-20-30-kotsch-2013-woanders-is-a-net-anders
END:VEVENT
BEGIN:VTIMEZONE
TZID:Europe/Berlin
X-LIC-LOCATION:Europe/Berlin
BEGIN:STANDARD
DTSTART:20061029T020000
TZNAME:CET
TZOFFSETFROM:+0200
TZOFFSETTO:+0100
END:STANDARD
END:VTIMEZONE
END:VCALENDAR
