BEGIN:VCALENDAR
VERSION:2.0
PRODID:-//Plone.org//NONSGML plone.app.event//EN
X-WR-TIMEZONE:Europe/Berlin
BEGIN:VEVENT
SUMMARY:FT – FT – FT – FT - FT - Kindertheater Wagabunt
DTSTART;TZID=Europe/Berlin:20061229T140000
DTSTAMP:20260422T032821Z
UID:671bdee63ddb4b1cad5ee0aa699c741e@zmi.spielboden.at
CREATED:20120822T144831Z
DESCRIPTION:Schauspieltheater ab 4 Jahren
LAST-MODIFIED:20210809T123858Z
URL:https://zmi.spielboden.at/Plone/veranstaltungen/2006/12_dezember/2006-
 12-29-14-00-ft-2013-ft-2013-ft-2013-ft-ft-kindertheater-wagabunt
END:VEVENT
BEGIN:VTIMEZONE
TZID:Europe/Berlin
X-LIC-LOCATION:Europe/Berlin
BEGIN:STANDARD
DTSTART:20061029T020000
TZNAME:CET
TZOFFSETFROM:+0200
TZOFFSETTO:+0100
END:STANDARD
END:VTIMEZONE
END:VCALENDAR
