BEGIN:VCALENDAR
VERSION:2.0
PRODID:-//Plone.org//NONSGML plone.app.event//EN
X-WR-TIMEZONE:Europe/Berlin
BEGIN:VEVENT
SUMMARY:Die Zauberflöte - Il Segreto di Pulcinella
DTSTART;TZID=Europe/Berlin:20061228T140000
DTSTAMP:20260422T020852Z
UID:82f43040eb9d40cc82df9cea5849c806@zmi.spielboden.at
CREATED:20120822T144830Z
DESCRIPTION:nach der Oper von W.A. Mozart
LAST-MODIFIED:20210809T123858Z
URL:https://zmi.spielboden.at/Plone/veranstaltungen/2006/12_dezember/2006-
 12-28-14-00-die-zauberfloete-il-segreto-di-pulcinella
END:VEVENT
BEGIN:VTIMEZONE
TZID:Europe/Berlin
X-LIC-LOCATION:Europe/Berlin
BEGIN:STANDARD
DTSTART:20061029T020000
TZNAME:CET
TZOFFSETFROM:+0200
TZOFFSETTO:+0100
END:STANDARD
END:VTIMEZONE
END:VCALENDAR
