BEGIN:VCALENDAR
VERSION:2.0
PRODID:-//Plone.org//NONSGML plone.app.event//EN
X-WR-TIMEZONE:Europe/Berlin
BEGIN:VEVENT
SUMMARY:Werner Brix - "BRIX allein im  Megaplexx"
DTSTART;TZID=Europe/Berlin:20061227T203000
DTSTAMP:20260422T034931Z
UID:f464b98704744dfaa0e1f416887b50b2@zmi.spielboden.at
CREATED:20120822T144832Z
DESCRIPTION:Slow Food Kabarett \nEin Beitrag zur Entschleunigung des Allta
 gs\n
LAST-MODIFIED:20210809T123858Z
URL:https://zmi.spielboden.at/Plone/veranstaltungen/2006/12_dezember/2006-
 12-27-20-30-werner-brix-brix-allein-im-megaplexx
END:VEVENT
BEGIN:VTIMEZONE
TZID:Europe/Berlin
X-LIC-LOCATION:Europe/Berlin
BEGIN:STANDARD
DTSTART:20061029T020000
TZNAME:CET
TZOFFSETFROM:+0200
TZOFFSETTO:+0100
END:STANDARD
END:VTIMEZONE
END:VCALENDAR
