BEGIN:VCALENDAR
VERSION:2.0
PRODID:-//Plone.org//NONSGML plone.app.event//EN
X-WR-TIMEZONE:Europe/Berlin
BEGIN:VEVENT
SUMMARY:Muxmäuschenstill
DTSTART;TZID=Europe/Berlin:20061227T203000
DTSTAMP:20260422T044937Z
UID:0774904ba2fe4a1994e31cd8ba7ebf35@zmi.spielboden.at
CREATED:20120822T144841Z
LAST-MODIFIED:20210809T123903Z
URL:https://zmi.spielboden.at/Plone/veranstaltungen/2006/12_dezember/2006-
 12-27-20-30-muxmaeuschenstill
END:VEVENT
BEGIN:VTIMEZONE
TZID:Europe/Berlin
X-LIC-LOCATION:Europe/Berlin
BEGIN:STANDARD
DTSTART:20061029T020000
TZNAME:CET
TZOFFSETFROM:+0200
TZOFFSETTO:+0100
END:STANDARD
END:VTIMEZONE
END:VCALENDAR
