BEGIN:VCALENDAR
VERSION:2.0
PRODID:-//Plone.org//NONSGML plone.app.event//EN
X-WR-TIMEZONE:Europe/Berlin
BEGIN:VEVENT
SUMMARY:Doran-Stucky-Studer play the music of Jimi Hendrix
DTSTART;TZID=Europe/Berlin:20061226T203000
DTSTAMP:20260422T020858Z
UID:0579d54c1e334dbabfb335cc55e0ee42@zmi.spielboden.at
CREATED:20120822T144834Z
LAST-MODIFIED:20210809T123859Z
URL:https://zmi.spielboden.at/Plone/veranstaltungen/2006/12_dezember/2006-
 12-26-20-30-doran-stucky-studer-play-the-music-of-jimi-hendrix
END:VEVENT
BEGIN:VTIMEZONE
TZID:Europe/Berlin
X-LIC-LOCATION:Europe/Berlin
BEGIN:STANDARD
DTSTART:20061029T020000
TZNAME:CET
TZOFFSETFROM:+0200
TZOFFSETTO:+0100
END:STANDARD
END:VTIMEZONE
END:VCALENDAR
