BEGIN:VCALENDAR
VERSION:2.0
PRODID:-//Plone.org//NONSGML plone.app.event//EN
X-WR-TIMEZONE:Europe/Berlin
BEGIN:VEVENT
SUMMARY:Pop an Wave Party
DTSTART;TZID=Europe/Berlin:20061225T210000
DTSTAMP:20260422T020807Z
UID:2dcd0ab656d84774a5fc38ad9b0a1f24@zmi.spielboden.at
CREATED:20120822T144840Z
LAST-MODIFIED:20120910T114124Z
URL:https://zmi.spielboden.at/Plone/veranstaltungen/2006/12_dezember/2006-
 12-25-21-00-pop-an-wave-party
END:VEVENT
BEGIN:VTIMEZONE
TZID:Europe/Berlin
X-LIC-LOCATION:Europe/Berlin
BEGIN:STANDARD
DTSTART:20061029T020000
TZNAME:CET
TZOFFSETFROM:+0200
TZOFFSETTO:+0100
END:STANDARD
END:VTIMEZONE
END:VCALENDAR
