BEGIN:VCALENDAR
VERSION:2.0
PRODID:-//Plone.org//NONSGML plone.app.event//EN
X-WR-TIMEZONE:Europe/Berlin
BEGIN:VEVENT
SUMMARY:Kinderfilm - Eine kleine Weihnachtsgeschichte
DTSTART;TZID=Europe/Berlin:20061223T150000
DTSTAMP:20260422T020931Z
UID:f72350aa85c445668a34ccf376de864f@zmi.spielboden.at
CREATED:20120822T144829Z
DESCRIPTION:Ein schwedisches Weihnachtsmärchen ab 5 Jahren
LAST-MODIFIED:20210809T123858Z
URL:https://zmi.spielboden.at/Plone/veranstaltungen/2006/12_dezember/2006-
 12-23-15-00-kinderfilm-eine-kleine-weihnachtsgeschichte
END:VEVENT
BEGIN:VTIMEZONE
TZID:Europe/Berlin
X-LIC-LOCATION:Europe/Berlin
BEGIN:STANDARD
DTSTART:20061029T020000
TZNAME:CET
TZOFFSETFROM:+0200
TZOFFSETTO:+0100
END:STANDARD
END:VTIMEZONE
END:VCALENDAR
