BEGIN:VCALENDAR
VERSION:2.0
PRODID:-//Plone.org//NONSGML plone.app.event//EN
X-WR-TIMEZONE:Europe/Berlin
BEGIN:VEVENT
SUMMARY:Salsa Night
DTSTART;TZID=Europe/Berlin:20061221T210000
DTSTAMP:20260422T022251Z
UID:e19b25fbc74343a89e2ef786228cf31f@zmi.spielboden.at
CREATED:20120822T144844Z
LAST-MODIFIED:20210809T123904Z
URL:https://zmi.spielboden.at/Plone/veranstaltungen/2006/12_dezember/2006-
 12-21-21-00-salsa-night
END:VEVENT
BEGIN:VTIMEZONE
TZID:Europe/Berlin
X-LIC-LOCATION:Europe/Berlin
BEGIN:STANDARD
DTSTART:20061029T020000
TZNAME:CET
TZOFFSETFROM:+0200
TZOFFSETTO:+0100
END:STANDARD
END:VTIMEZONE
END:VCALENDAR
