BEGIN:VCALENDAR
VERSION:2.0
PRODID:-//Plone.org//NONSGML plone.app.event//EN
X-WR-TIMEZONE:Europe/Berlin
BEGIN:VEVENT
SUMMARY:Letzte Hoffnung Spanien. Protokolle einer Odyssee
DTSTART;TZID=Europe/Berlin:20061220T203000
DTSTAMP:20260422T040159Z
UID:cb2754322f6249519693b5c6e28a7576@zmi.spielboden.at
CREATED:20120822T144843Z
LAST-MODIFIED:20210809T123904Z
URL:https://zmi.spielboden.at/Plone/veranstaltungen/2006/12_dezember/2006-
 12-20-20-30-letzte-hoffnung-spanien-protokolle-einer-odyssee
END:VEVENT
BEGIN:VTIMEZONE
TZID:Europe/Berlin
X-LIC-LOCATION:Europe/Berlin
BEGIN:STANDARD
DTSTART:20061029T020000
TZNAME:CET
TZOFFSETFROM:+0200
TZOFFSETTO:+0100
END:STANDARD
END:VTIMEZONE
END:VCALENDAR
