BEGIN:VCALENDAR
VERSION:2.0
PRODID:-//Plone.org//NONSGML plone.app.event//EN
X-WR-TIMEZONE:Europe/Berlin
BEGIN:VEVENT
SUMMARY:Vernetzung - 3 Netzknoten in der Bodenseeregion
DTSTART;TZID=Europe/Berlin:20061218T190000
DTSTAMP:20260422T022757Z
UID:7b6a6c123eea427ba9f55aed3e9d081b@zmi.spielboden.at
CREATED:20120822T144845Z
LAST-MODIFIED:20120910T114125Z
URL:https://zmi.spielboden.at/Plone/veranstaltungen/2006/12_dezember/2006-
 12-18-19-00-vernetzung-3-netzknoten-in-der-bodenseeregion
END:VEVENT
BEGIN:VTIMEZONE
TZID:Europe/Berlin
X-LIC-LOCATION:Europe/Berlin
BEGIN:STANDARD
DTSTART:20061029T020000
TZNAME:CET
TZOFFSETFROM:+0200
TZOFFSETTO:+0100
END:STANDARD
END:VTIMEZONE
END:VCALENDAR
