BEGIN:VCALENDAR
VERSION:2.0
PRODID:-//Plone.org//NONSGML plone.app.event//EN
X-WR-TIMEZONE:Europe/Berlin
BEGIN:VEVENT
SUMMARY:Von der Ausländerpolitik zur Integrationspolitik
DTSTART;TZID=Europe/Berlin:20061217T103000
DTSTAMP:20260421T235609Z
UID:af68fd594c434e5c931c167ee8a83079@zmi.spielboden.at
CREATED:20120822T144839Z
DESCRIPTION:Präsentation des Gaismair-Jahrbuchs 2007 mit den Beiträgen a
 us Vorarlberg
LAST-MODIFIED:20120910T114124Z
URL:https://zmi.spielboden.at/Plone/veranstaltungen/2006/12_dezember/2006-
 12-17-10-30-von-der-auslaenderpolitik-zur-integrationspolitik
END:VEVENT
BEGIN:VTIMEZONE
TZID:Europe/Berlin
X-LIC-LOCATION:Europe/Berlin
BEGIN:STANDARD
DTSTART:20061029T020000
TZNAME:CET
TZOFFSETFROM:+0200
TZOFFSETTO:+0100
END:STANDARD
END:VTIMEZONE
END:VCALENDAR
