BEGIN:VCALENDAR
VERSION:2.0
PRODID:-//Plone.org//NONSGML plone.app.event//EN
X-WR-TIMEZONE:Europe/Berlin
BEGIN:VEVENT
SUMMARY:Million Dollar Baby
DTSTART;TZID=Europe/Berlin:20061216T203000
DTSTAMP:20260422T022604Z
UID:8739f32ad0184248bdffdba6ba41c724@zmi.spielboden.at
CREATED:20120822T144838Z
DESCRIPTION:Filmreihe zum Thema Sterbehilfe – In Zusammenarbeit mit der 
 Hospizbewegung und dem Bildungswerk der katholischen Kirche Vorarlbergs
LAST-MODIFIED:20210809T123902Z
URL:https://zmi.spielboden.at/Plone/veranstaltungen/2006/12_dezember/2006-
 12-16-20-30-million-dollar-baby
END:VEVENT
BEGIN:VTIMEZONE
TZID:Europe/Berlin
X-LIC-LOCATION:Europe/Berlin
BEGIN:STANDARD
DTSTART:20061029T020000
TZNAME:CET
TZOFFSETFROM:+0200
TZOFFSETTO:+0100
END:STANDARD
END:VTIMEZONE
END:VCALENDAR
