BEGIN:VCALENDAR
VERSION:2.0
PRODID:-//Plone.org//NONSGML plone.app.event//EN
X-WR-TIMEZONE:Europe/Berlin
BEGIN:VEVENT
SUMMARY:Ein Schaf fürs Leben - Faro Theater
DTSTART;TZID=Europe/Berlin:20061216T150000
DTSTAMP:20260421T234859Z
UID:05edfdb4fb184b1c905502e7f4e218aa@zmi.spielboden.at
CREATED:20120822T144828Z
DESCRIPTION:Figurentheater ab 5 Jahren
LAST-MODIFIED:20210809T123857Z
URL:https://zmi.spielboden.at/Plone/veranstaltungen/2006/12_dezember/2006-
 12-16-15-00-ein-schaf-fuers-leben-faro-theater
END:VEVENT
BEGIN:VTIMEZONE
TZID:Europe/Berlin
X-LIC-LOCATION:Europe/Berlin
BEGIN:STANDARD
DTSTART:20061029T020000
TZNAME:CET
TZOFFSETFROM:+0200
TZOFFSETTO:+0100
END:STANDARD
END:VTIMEZONE
END:VCALENDAR
