BEGIN:VCALENDAR
VERSION:2.0
PRODID:-//Plone.org//NONSGML plone.app.event//EN
X-WR-TIMEZONE:Europe/Berlin
BEGIN:VEVENT
SUMMARY:Mar Adentro (Das Meer in mir)
DTSTART;TZID=Europe/Berlin:20061215T203000
DTSTAMP:20260422T022625Z
UID:c9d9cc2b00f04528b77e4456388ca2ec@zmi.spielboden.at
CREATED:20120822T144838Z
DESCRIPTION:Filmreihe zum Thema Sterbehilfe \n– In Zusammenarbeit mit de
 r Hospizbewegung und dem Bildungswerk der katholischen Kirche Vorarlbergs
LAST-MODIFIED:20210809T123902Z
URL:https://zmi.spielboden.at/Plone/veranstaltungen/2006/12_dezember/2006-
 12-15-20-30-mar-adentro-das-meer-in-mir
END:VEVENT
BEGIN:VTIMEZONE
TZID:Europe/Berlin
X-LIC-LOCATION:Europe/Berlin
BEGIN:STANDARD
DTSTART:20061029T020000
TZNAME:CET
TZOFFSETFROM:+0200
TZOFFSETTO:+0100
END:STANDARD
END:VTIMEZONE
END:VCALENDAR
