BEGIN:VCALENDAR
VERSION:2.0
PRODID:-//Plone.org//NONSGML plone.app.event//EN
X-WR-TIMEZONE:Europe/Berlin
BEGIN:VEVENT
SUMMARY:Emmas Glück
DTSTART;TZID=Europe/Berlin:20061213T203000
DTSTAMP:20260422T040231Z
UID:55a998e53e4641abb3f56529ccfcc0b3@zmi.spielboden.at
CREATED:20120822T144837Z
DESCRIPTION:Filmreihe zum Thema Sterbehilfe \n– In Zusammenarbeit mit de
 r Hospizbewegung und dem Bildungswerk der katholischen Kirche Vorarlbergs
LAST-MODIFIED:20210809T123900Z
URL:https://zmi.spielboden.at/Plone/veranstaltungen/2006/12_dezember/2006-
 12-13-20-30-emmas-glueck
END:VEVENT
BEGIN:VTIMEZONE
TZID:Europe/Berlin
X-LIC-LOCATION:Europe/Berlin
BEGIN:STANDARD
DTSTART:20061029T020000
TZNAME:CET
TZOFFSETFROM:+0200
TZOFFSETTO:+0100
END:STANDARD
END:VTIMEZONE
END:VCALENDAR
