BEGIN:VCALENDAR
VERSION:2.0
PRODID:-//Plone.org//NONSGML plone.app.event//EN
X-WR-TIMEZONE:Europe/Berlin
BEGIN:VEVENT
SUMMARY:Pinocchio - Klexstheater für Kinder
DTSTART;TZID=Europe/Berlin:20061209T150000
DTSTAMP:20260421T235123Z
UID:58ff27588a3d48a5bc44fb2a1bcf1824@zmi.spielboden.at
CREATED:20120822T144828Z
DESCRIPTION:Ein musikalisches Märchen für alle ab 4 Jahren
LAST-MODIFIED:20210809T123857Z
URL:https://zmi.spielboden.at/Plone/veranstaltungen/2006/12_dezember/2006-
 12-09-15-00-pinocchio-klexstheater-fuer-kinder
END:VEVENT
BEGIN:VTIMEZONE
TZID:Europe/Berlin
X-LIC-LOCATION:Europe/Berlin
BEGIN:STANDARD
DTSTART:20061029T020000
TZNAME:CET
TZOFFSETFROM:+0200
TZOFFSETTO:+0100
END:STANDARD
END:VTIMEZONE
END:VCALENDAR
