BEGIN:VCALENDAR
VERSION:2.0
PRODID:-//Plone.org//NONSGML plone.app.event//EN
X-WR-TIMEZONE:Europe/Berlin
BEGIN:VEVENT
SUMMARY:Jazz Bigband Graz & John Hollenbeck feat. Theo Bleckmann - "Joys &
  Desires"
DTSTART;TZID=Europe/Berlin:20061208T203000
DTSTAMP:20260421T235124Z
UID:b12372d4871441708f1051aa0d6c2389@zmi.spielboden.at
CREATED:20120822T144833Z
LAST-MODIFIED:20210809T123859Z
URL:https://zmi.spielboden.at/Plone/veranstaltungen/2006/12_dezember/2006-
 12-08-20-30-jazz-bigband-graz-john-hollenbeck-feat-theo-bleckmann-joys-des
 ires
END:VEVENT
BEGIN:VTIMEZONE
TZID:Europe/Berlin
X-LIC-LOCATION:Europe/Berlin
BEGIN:STANDARD
DTSTART:20061029T020000
TZNAME:CET
TZOFFSETFROM:+0200
TZOFFSETTO:+0100
END:STANDARD
END:VTIMEZONE
END:VCALENDAR
