BEGIN:VCALENDAR
VERSION:2.0
PRODID:-//Plone.org//NONSGML plone.app.event//EN
X-WR-TIMEZONE:Europe/Berlin
BEGIN:VEVENT
SUMMARY:Babooska
DTSTART;TZID=Europe/Berlin:20061208T203000
DTSTAMP:20260424T172925Z
UID:67fce7412e0f4a78abe1aa94dd8bb471@zmi.spielboden.at
CREATED:20120822T144843Z
DESCRIPTION:Dokumentarfilm
LAST-MODIFIED:20210809T123903Z
URL:https://zmi.spielboden.at/Plone/veranstaltungen/2006/12_dezember/2006-
 12-08-20-30-babooska
END:VEVENT
BEGIN:VTIMEZONE
TZID:Europe/Berlin
X-LIC-LOCATION:Europe/Berlin
BEGIN:STANDARD
DTSTART:20061029T020000
TZNAME:CET
TZOFFSETFROM:+0200
TZOFFSETTO:+0100
END:STANDARD
END:VTIMEZONE
END:VCALENDAR
