BEGIN:VCALENDAR
VERSION:2.0
PRODID:-//Plone.org//NONSGML plone.app.event//EN
X-WR-TIMEZONE:Europe/Berlin
BEGIN:VEVENT
SUMMARY:Babooska
DTSTART;TZID=Europe/Berlin:20061206T203000
DTSTAMP:20260424T172931Z
UID:8e5642ae79bb4db6bd623661c0b314dd@zmi.spielboden.at
CREATED:20120822T144836Z
DESCRIPTION:Dokumentarfilm
LAST-MODIFIED:20210809T123900Z
URL:https://zmi.spielboden.at/Plone/veranstaltungen/2006/12_dezember/2006-
 12-06-20-30-babooska
END:VEVENT
BEGIN:VTIMEZONE
TZID:Europe/Berlin
X-LIC-LOCATION:Europe/Berlin
BEGIN:STANDARD
DTSTART:20061029T020000
TZNAME:CET
TZOFFSETFROM:+0200
TZOFFSETTO:+0100
END:STANDARD
END:VTIMEZONE
END:VCALENDAR
