BEGIN:VCALENDAR
VERSION:2.0
PRODID:-//Plone.org//NONSGML plone.app.event//EN
X-WR-TIMEZONE:Europe/Berlin
BEGIN:VEVENT
SUMMARY:Zeit zu gehen
DTSTART;TZID=Europe/Berlin:20061206T193000
DTSTAMP:20260422T052347Z
UID:a7f5c69c5938426b886ab6c0f99851a6@zmi.spielboden.at
CREATED:20120822T144841Z
DESCRIPTION:Vor dem Film: Sterbehilfe oder Sterbebegleitung – Referat vo
 m Caritasseelsorger Elmar Simma
LAST-MODIFIED:20210809T123903Z
URL:https://zmi.spielboden.at/Plone/veranstaltungen/2006/12_dezember/2006-
 12-06-19-30-zeit-zu-gehen
END:VEVENT
BEGIN:VTIMEZONE
TZID:Europe/Berlin
X-LIC-LOCATION:Europe/Berlin
BEGIN:STANDARD
DTSTART:20061029T020000
TZNAME:CET
TZOFFSETFROM:+0200
TZOFFSETTO:+0100
END:STANDARD
END:VTIMEZONE
END:VCALENDAR
