BEGIN:VCALENDAR
VERSION:2.0
PRODID:-//Plone.org//NONSGML plone.app.event//EN
X-WR-TIMEZONE:Europe/Berlin
BEGIN:VEVENT
SUMMARY:O.Lendl
DTSTART;TZID=Europe/Berlin:20061205T203000
DTSTAMP:20260422T022414Z
UID:c8b8d1003112496798fd113459d2c07d@zmi.spielboden.at
CREATED:20120822T144836Z
LAST-MODIFIED:20210809T123900Z
URL:https://zmi.spielboden.at/Plone/veranstaltungen/2006/12_dezember/2006-
 12-05-20-30-o-lendl
END:VEVENT
BEGIN:VTIMEZONE
TZID:Europe/Berlin
X-LIC-LOCATION:Europe/Berlin
BEGIN:STANDARD
DTSTART:20061029T020000
TZNAME:CET
TZOFFSETFROM:+0200
TZOFFSETTO:+0100
END:STANDARD
END:VTIMEZONE
END:VCALENDAR
