BEGIN:VCALENDAR
VERSION:2.0
PRODID:-//Plone.org//NONSGML plone.app.event//EN
X-WR-TIMEZONE:Europe/Berlin
BEGIN:VEVENT
SUMMARY:Gianmaria Testa
DTSTART;TZID=Europe/Berlin:20061203T203000
DTSTAMP:20260422T022342Z
UID:8258df5a4bf04ff79fa7c01489728837@zmi.spielboden.at
CREATED:20120822T144835Z
LAST-MODIFIED:20210809T123859Z
URL:https://zmi.spielboden.at/Plone/veranstaltungen/2006/12_dezember/2006-
 12-03-20-30-gianmaria-testa
END:VEVENT
BEGIN:VTIMEZONE
TZID:Europe/Berlin
X-LIC-LOCATION:Europe/Berlin
BEGIN:STANDARD
DTSTART:20061029T020000
TZNAME:CET
TZOFFSETFROM:+0200
TZOFFSETTO:+0100
END:STANDARD
END:VTIMEZONE
END:VCALENDAR
