BEGIN:VCALENDAR
VERSION:2.0
PRODID:-//Plone.org//NONSGML plone.app.event//EN
X-WR-TIMEZONE:Europe/Berlin
BEGIN:VEVENT
SUMMARY:Marlene Streeruwitz - Sigmund Freud Vorlesung
DTSTART;TZID=Europe/Berlin:20061202T200000
DTSTAMP:20260422T005536Z
UID:5c67e32b43d94f7ea50b79af79652b40@zmi.spielboden.at
CREATED:20120822T144831Z
DESCRIPTION:“Aus der Psychopathologie des heutigen Alltagslebens“
LAST-MODIFIED:20210809T123858Z
URL:https://zmi.spielboden.at/Plone/veranstaltungen/2006/12_dezember/2006-
 12-02-20-00-marlene-streeruwitz-sigmund-freud-vorlesung
END:VEVENT
BEGIN:VTIMEZONE
TZID:Europe/Berlin
X-LIC-LOCATION:Europe/Berlin
BEGIN:STANDARD
DTSTART:20061029T020000
TZNAME:CET
TZOFFSETFROM:+0200
TZOFFSETTO:+0100
END:STANDARD
END:VTIMEZONE
END:VCALENDAR
