BEGIN:VCALENDAR
VERSION:2.0
PRODID:-//Plone.org//NONSGML plone.app.event//EN
X-WR-TIMEZONE:Europe/Berlin
BEGIN:VEVENT
SUMMARY:„Ach du fröliche …“ - Kindertheater Pipifax
DTSTART;TZID=Europe/Berlin:20061202T150000
DTSTAMP:20260425T194419Z
UID:de266fff2c5441dbbebf1176a8da8acc@zmi.spielboden.at
CREATED:20120822T144827Z
DESCRIPTION:Kindermusiktheater ab 3 Jahren
LAST-MODIFIED:20210809T123857Z
URL:https://zmi.spielboden.at/Plone/veranstaltungen/2006/12_dezember/2006-
 12-02-15-00-201each-du-froeliche-201c-kindertheater-pipifax
END:VEVENT
BEGIN:VTIMEZONE
TZID:Europe/Berlin
X-LIC-LOCATION:Europe/Berlin
BEGIN:STANDARD
DTSTART:20061029T020000
TZNAME:CET
TZOFFSETFROM:+0200
TZOFFSETTO:+0100
END:STANDARD
END:VTIMEZONE
END:VCALENDAR
