BEGIN:VCALENDAR
VERSION:2.0
PRODID:-//Plone.org//NONSGML plone.app.event//EN
X-WR-TIMEZONE:Europe/Berlin
BEGIN:VEVENT
SUMMARY:Crash Cruise - Lucas Niggli ZOOM meets Arte Quartett
DTSTART;TZID=Europe/Berlin:20061201T203000
DTSTAMP:20260425T211147Z
UID:56bf4b385f534ed5b647e310919a6b27@zmi.spielboden.at
CREATED:20120822T144832Z
LAST-MODIFIED:20210809T123859Z
URL:https://zmi.spielboden.at/Plone/veranstaltungen/2006/12_dezember/2006-
 12-01-20-30-crash-cruise-lucas-niggli-zoom-meets-arte-quartett
END:VEVENT
BEGIN:VTIMEZONE
TZID:Europe/Berlin
X-LIC-LOCATION:Europe/Berlin
BEGIN:STANDARD
DTSTART:20061029T020000
TZNAME:CET
TZOFFSETFROM:+0200
TZOFFSETTO:+0100
END:STANDARD
END:VTIMEZONE
END:VCALENDAR
