BEGIN:VCALENDAR
VERSION:2.0
PRODID:-//Plone.org//NONSGML plone.app.event//EN
X-WR-TIMEZONE:Europe/Berlin
BEGIN:VEVENT
SUMMARY:Gert Jonke
DTSTART;TZID=Europe/Berlin:20061128T203000
DTSTAMP:20260426T025219Z
UID:3ab403964bd54a15b9919383d1a68d04@zmi.spielboden.at
CREATED:20120822T144810Z
DESCRIPTION:Literatur & „…URT“ 2
LAST-MODIFIED:20210809T123852Z
URL:https://zmi.spielboden.at/Plone/veranstaltungen/2006/11_november/2006-
 11-28-20-30-gert-jonke
END:VEVENT
BEGIN:VTIMEZONE
TZID:Europe/Berlin
X-LIC-LOCATION:Europe/Berlin
BEGIN:STANDARD
DTSTART:20061029T020000
TZNAME:CET
TZOFFSETFROM:+0200
TZOFFSETTO:+0100
END:STANDARD
END:VTIMEZONE
END:VCALENDAR
