BEGIN:VCALENDAR
VERSION:2.0
PRODID:-//Plone.org//NONSGML plone.app.event//EN
X-WR-TIMEZONE:Europe/Berlin
BEGIN:VEVENT
SUMMARY:Spielboden Kasperletheater
DTSTART;TZID=Europe/Berlin:20061125T150000
DTSTAMP:20260425T212005Z
UID:bb248be4cebb49a79f125c121cae49fb@zmi.spielboden.at
CREATED:20120822T144803Z
DESCRIPTION:Puppentheater ab 4 Jahren
LAST-MODIFIED:20210809T123851Z
URL:https://zmi.spielboden.at/Plone/veranstaltungen/2006/11_november/2006-
 11-25-15-00-spielboden-kasperletheater
END:VEVENT
BEGIN:VTIMEZONE
TZID:Europe/Berlin
X-LIC-LOCATION:Europe/Berlin
BEGIN:STANDARD
DTSTART:20061029T020000
TZNAME:CET
TZOFFSETFROM:+0200
TZOFFSETTO:+0100
END:STANDARD
END:VTIMEZONE
END:VCALENDAR
