BEGIN:VCALENDAR
VERSION:2.0
PRODID:-//Plone.org//NONSGML plone.app.event//EN
X-WR-TIMEZONE:Europe/Berlin
BEGIN:VEVENT
SUMMARY:aktionstheater ensemble - .... URT
DTSTART;TZID=Europe/Berlin:20061124T203000
DTSTAMP:20260421T233505Z
UID:2bbd9c85306946f69bfca76f494e4456@zmi.spielboden.at
CREATED:20120822T144823Z
DESCRIPTION:Uraufführung
LAST-MODIFIED:20210809T123856Z
URL:https://zmi.spielboden.at/Plone/veranstaltungen/2006/11_november/2006-
 11-24-20-30-aktionstheater-ensemble-urt
END:VEVENT
BEGIN:VTIMEZONE
TZID:Europe/Berlin
X-LIC-LOCATION:Europe/Berlin
BEGIN:STANDARD
DTSTART:20061029T020000
TZNAME:CET
TZOFFSETFROM:+0200
TZOFFSETTO:+0100
END:STANDARD
END:VTIMEZONE
END:VCALENDAR
