BEGIN:VCALENDAR
VERSION:2.0
PRODID:-//Plone.org//NONSGML plone.app.event//EN
X-WR-TIMEZONE:Europe/Berlin
BEGIN:VEVENT
SUMMARY:Lost Children
DTSTART;TZID=Europe/Berlin:20061122T203000
DTSTAMP:20260422T005529Z
UID:05bb63aeb70b46bd98bb333ed7cba4ab@zmi.spielboden.at
CREATED:20120822T144820Z
DESCRIPTION:Vorarlberger Kinderrechtsfilmtage - in Zusammenarbeit mit „W
 elt der Kinder“
LAST-MODIFIED:20210809T123856Z
URL:https://zmi.spielboden.at/Plone/veranstaltungen/2006/11_november/2006-
 11-22-20-30-lost-children
END:VEVENT
BEGIN:VTIMEZONE
TZID:Europe/Berlin
X-LIC-LOCATION:Europe/Berlin
BEGIN:STANDARD
DTSTART:20061029T020000
TZNAME:CET
TZOFFSETFROM:+0200
TZOFFSETTO:+0100
END:STANDARD
END:VTIMEZONE
END:VCALENDAR
