BEGIN:VCALENDAR
VERSION:2.0
PRODID:-//Plone.org//NONSGML plone.app.event//EN
X-WR-TIMEZONE:Europe/Berlin
BEGIN:VEVENT
SUMMARY:Russendisco – Lesung und Musik mit DJ Wladimir Kaminer & DJ Yuri
 y Gurzhy
DTSTART;TZID=Europe/Berlin:20061118T203000
DTSTAMP:20260425T122156Z
UID:e504251eec954f4bbca0195605359b60@zmi.spielboden.at
CREATED:20120822T144809Z
LAST-MODIFIED:20210809T123851Z
URL:https://zmi.spielboden.at/Plone/veranstaltungen/2006/11_november/2006-
 11-18-20-30-russendisco-2013-lesung-und-musik-mit-dj-wladimir-kaminer-dj-y
 uriy-gurzhy
END:VEVENT
BEGIN:VTIMEZONE
TZID:Europe/Berlin
X-LIC-LOCATION:Europe/Berlin
BEGIN:STANDARD
DTSTART:20061029T020000
TZNAME:CET
TZOFFSETFROM:+0200
TZOFFSETTO:+0100
END:STANDARD
END:VTIMEZONE
END:VCALENDAR
