BEGIN:VCALENDAR
VERSION:2.0
PRODID:-//Plone.org//NONSGML plone.app.event//EN
X-WR-TIMEZONE:Europe/Berlin
BEGIN:VEVENT
SUMMARY:Tierkreis - Kinderjeunessekonzert
DTSTART;TZID=Europe/Berlin:20061118T150000
DTSTAMP:20260425T163726Z
UID:1ee06078406345c48c03bf9f79d21c7c@zmi.spielboden.at
CREATED:20120822T144803Z
DESCRIPTION:Kinderkonzert ab 5 Jahren
LAST-MODIFIED:20210809T123851Z
URL:https://zmi.spielboden.at/Plone/veranstaltungen/2006/11_november/2006-
 11-18-15-00-tierkreis-kinderjeunessekonzert
END:VEVENT
BEGIN:VTIMEZONE
TZID:Europe/Berlin
X-LIC-LOCATION:Europe/Berlin
BEGIN:STANDARD
DTSTART:20061029T020000
TZNAME:CET
TZOFFSETFROM:+0200
TZOFFSETTO:+0100
END:STANDARD
END:VTIMEZONE
END:VCALENDAR
