BEGIN:VCALENDAR
VERSION:2.0
PRODID:-//Plone.org//NONSGML plone.app.event//EN
X-WR-TIMEZONE:Europe/Berlin
BEGIN:VEVENT
SUMMARY:A Decent Factory
DTSTART;TZID=Europe/Berlin:20061117T090000
DTSTAMP:20260422T070501Z
UID:f54e1c451e45462e9464e7a998567820@zmi.spielboden.at
CREATED:20120822T144822Z
DESCRIPTION:Global Education Week 2006\, in Zusammenarbeit mit der Südwin
 d Agentur - Schulvorstellung
LAST-MODIFIED:20210809T123856Z
URL:https://zmi.spielboden.at/Plone/veranstaltungen/2006/11_november/2006-
 11-17-09-00-a-decent-factory
END:VEVENT
BEGIN:VTIMEZONE
TZID:Europe/Berlin
X-LIC-LOCATION:Europe/Berlin
BEGIN:STANDARD
DTSTART:20061029T020000
TZNAME:CET
TZOFFSETFROM:+0200
TZOFFSETTO:+0100
END:STANDARD
END:VTIMEZONE
END:VCALENDAR
