BEGIN:VCALENDAR
VERSION:2.0
PRODID:-//Plone.org//NONSGML plone.app.event//EN
X-WR-TIMEZONE:Europe/Berlin
BEGIN:VEVENT
SUMMARY:Welcome Home
DTSTART;TZID=Europe/Berlin:20061116T090000
DTSTAMP:20260422T051553Z
UID:d813aca1f2744fab8e1cf9a3e4aab781@zmi.spielboden.at
CREATED:20120822T144821Z
DESCRIPTION:Global Education Week 2006 - in Zusammenarbeit mit der Südwin
 d Agentur - Schulvorstellung
LAST-MODIFIED:20210809T123856Z
URL:https://zmi.spielboden.at/Plone/veranstaltungen/2006/11_november/2006-
 11-16-09-00-welcome-home
END:VEVENT
BEGIN:VTIMEZONE
TZID:Europe/Berlin
X-LIC-LOCATION:Europe/Berlin
BEGIN:STANDARD
DTSTART:20061029T020000
TZNAME:CET
TZOFFSETFROM:+0200
TZOFFSETTO:+0100
END:STANDARD
END:VTIMEZONE
END:VCALENDAR
