BEGIN:VCALENDAR
VERSION:2.0
PRODID:-//Plone.org//NONSGML plone.app.event//EN
X-WR-TIMEZONE:Europe/Berlin
BEGIN:VEVENT
SUMMARY:Ernst Reijseger Système D.
DTSTART;TZID=Europe/Berlin:20061115T203000
DTSTAMP:20260423T154309Z
UID:b9127214be6b4edf9cd8d357d5a774bb@zmi.spielboden.at
CREATED:20120822T144811Z
LAST-MODIFIED:20210809T123852Z
URL:https://zmi.spielboden.at/Plone/veranstaltungen/2006/11_november/2006-
 11-15-20-30-ernst-reijseger-systeme-d
END:VEVENT
BEGIN:VTIMEZONE
TZID:Europe/Berlin
X-LIC-LOCATION:Europe/Berlin
BEGIN:STANDARD
DTSTART:20061029T020000
TZNAME:CET
TZOFFSETFROM:+0200
TZOFFSETTO:+0100
END:STANDARD
END:VTIMEZONE
END:VCALENDAR
