BEGIN:VCALENDAR
VERSION:2.0
PRODID:-//Plone.org//NONSGML plone.app.event//EN
X-WR-TIMEZONE:Europe/Berlin
BEGIN:VEVENT
SUMMARY:Devil's Miner
DTSTART;TZID=Europe/Berlin:20061115T203000
DTSTAMP:20260422T034742Z
UID:4babb9188f9645ec954f647176e4964b@zmi.spielboden.at
CREATED:20120822T144811Z
DESCRIPTION:Vorarlberger Kinderrechtsfilmtage - in Zusammenarbeit mit „W
 elt der Kinder“
LAST-MODIFIED:20210809T123852Z
URL:https://zmi.spielboden.at/Plone/veranstaltungen/2006/11_november/2006-
 11-15-20-30-devil-s-miner
END:VEVENT
BEGIN:VTIMEZONE
TZID:Europe/Berlin
X-LIC-LOCATION:Europe/Berlin
BEGIN:STANDARD
DTSTART:20061029T020000
TZNAME:CET
TZOFFSETFROM:+0200
TZOFFSETTO:+0100
END:STANDARD
END:VTIMEZONE
END:VCALENDAR
