BEGIN:VCALENDAR
VERSION:2.0
PRODID:-//Plone.org//NONSGML plone.app.event//EN
X-WR-TIMEZONE:Europe/Berlin
BEGIN:VEVENT
SUMMARY:„Der hohe Preis der Billigwaren“ und „Lisandro will arbeiten
 “
DTSTART;TZID=Europe/Berlin:20061115T090000
DTSTAMP:20260422T052915Z
UID:b6e2ecd38eb74b59b08f44743f56744f@zmi.spielboden.at
CREATED:20120822T144819Z
DESCRIPTION:Global Education Week 2006 - in Zusammenarbeit mit der Südwin
 d Agentur - Schulvorstellung
LAST-MODIFIED:20210809T123856Z
URL:https://zmi.spielboden.at/Plone/veranstaltungen/2006/11_november/2006-
 11-15-09-00-201eder-hohe-preis-der-billigwaren201c-und-201elisandro-will-a
 rbeiten201c
END:VEVENT
BEGIN:VTIMEZONE
TZID:Europe/Berlin
X-LIC-LOCATION:Europe/Berlin
BEGIN:STANDARD
DTSTART:20061029T020000
TZNAME:CET
TZOFFSETFROM:+0200
TZOFFSETTO:+0100
END:STANDARD
END:VTIMEZONE
END:VCALENDAR
