BEGIN:VCALENDAR
VERSION:2.0
PRODID:-//Plone.org//NONSGML plone.app.event//EN
X-WR-TIMEZONE:Europe/Berlin
BEGIN:VEVENT
SUMMARY:Bullshit – Ein zynischer Preis
DTSTART;TZID=Europe/Berlin:20061114T203000
DTSTAMP:20260422T052427Z
UID:098b54d3853743eea3fad2900322b8d0@zmi.spielboden.at
CREATED:20120822T144819Z
DESCRIPTION:Global Education Week 2006 – Filmtage Globales Lernen in Zus
 ammenarbeit mit der Agentur Südwind
LAST-MODIFIED:20210809T123855Z
URL:https://zmi.spielboden.at/Plone/veranstaltungen/2006/11_november/2006-
 11-14-20-30-bullshit-2013-ein-zynischer-preis
END:VEVENT
BEGIN:VTIMEZONE
TZID:Europe/Berlin
X-LIC-LOCATION:Europe/Berlin
BEGIN:STANDARD
DTSTART:20061029T020000
TZNAME:CET
TZOFFSETFROM:+0200
TZOFFSETTO:+0100
END:STANDARD
END:VTIMEZONE
END:VCALENDAR
