BEGIN:VCALENDAR
VERSION:2.0
PRODID:-//Plone.org//NONSGML plone.app.event//EN
X-WR-TIMEZONE:Europe/Berlin
BEGIN:VEVENT
SUMMARY:Kindertheater Mär - Weißt du eigentlich wie lieb ich dich hab?
DTSTART;TZID=Europe/Berlin:20061111T161500
DTSTAMP:20260425T150817Z
UID:527d0d6d7da8438fa11b5cbef23e7b7e@zmi.spielboden.at
CREATED:20120822T144803Z
DESCRIPTION:Deutschsprachigen Erstaufführung ab 3 Jahren
LAST-MODIFIED:20210809T123851Z
URL:https://zmi.spielboden.at/Plone/veranstaltungen/2006/11_november/2006-
 11-11-16-15-kindertheater-maer-weisst-du-eigentlich-wie-lieb-ich-dich-hab
END:VEVENT
BEGIN:VTIMEZONE
TZID:Europe/Berlin
X-LIC-LOCATION:Europe/Berlin
BEGIN:STANDARD
DTSTART:20061029T020000
TZNAME:CET
TZOFFSETFROM:+0200
TZOFFSETTO:+0100
END:STANDARD
END:VTIMEZONE
END:VCALENDAR
