BEGIN:VCALENDAR
VERSION:2.0
PRODID:-//Plone.org//NONSGML plone.app.event//EN
X-WR-TIMEZONE:Europe/Berlin
BEGIN:VEVENT
SUMMARY:Kindertheater Mär - Weißt du eigentlich wie lieb ich dich hab?
DTSTART;TZID=Europe/Berlin:20061111T150000
DTSTAMP:20260421T185631Z
UID:8c3a2bbccc5848899cece954b3ac840f@zmi.spielboden.at
CREATED:20120822T144802Z
DESCRIPTION:Deutschsprachigen Erstaufführung ab 3 Jahren
LAST-MODIFIED:20210809T123851Z
URL:https://zmi.spielboden.at/Plone/veranstaltungen/2006/11_november/2006-
 11-11-15-00-kindertheater-maer-weisst-du-eigentlich-wie-lieb-ich-dich-hab
END:VEVENT
BEGIN:VTIMEZONE
TZID:Europe/Berlin
X-LIC-LOCATION:Europe/Berlin
BEGIN:STANDARD
DTSTART:20061029T020000
TZNAME:CET
TZOFFSETFROM:+0200
TZOFFSETTO:+0100
END:STANDARD
END:VTIMEZONE
END:VCALENDAR
