BEGIN:VCALENDAR
VERSION:2.0
PRODID:-//Plone.org//NONSGML plone.app.event//EN
X-WR-TIMEZONE:Europe/Berlin
BEGIN:VEVENT
SUMMARY:His Big White Self
DTSTART;TZID=Europe/Berlin:20061110T203000
DTSTAMP:20260421T205400Z
UID:a27324c08f7c4607bab7697ef7e47284@zmi.spielboden.at
CREATED:20120822T144818Z
LAST-MODIFIED:20210809T123854Z
URL:https://zmi.spielboden.at/Plone/veranstaltungen/2006/11_november/2006-
 11-10-20-30-his-big-white-self
END:VEVENT
BEGIN:VTIMEZONE
TZID:Europe/Berlin
X-LIC-LOCATION:Europe/Berlin
BEGIN:STANDARD
DTSTART:20061029T020000
TZNAME:CET
TZOFFSETFROM:+0200
TZOFFSETTO:+0100
END:STANDARD
END:VTIMEZONE
END:VCALENDAR
