BEGIN:VCALENDAR
VERSION:2.0
PRODID:-//Plone.org//NONSGML plone.app.event//EN
X-WR-TIMEZONE:Europe/Berlin
BEGIN:VEVENT
SUMMARY:China Blue
DTSTART;TZID=Europe/Berlin:20061107T203000
DTSTAMP:20260421T214818Z
UID:0ad3f655624941918847d1ce74a0f7b3@zmi.spielboden.at
CREATED:20120822T144817Z
LAST-MODIFIED:20210809T123854Z
URL:https://zmi.spielboden.at/Plone/veranstaltungen/2006/11_november/2006-
 11-07-20-30-china-blue
END:VEVENT
BEGIN:VTIMEZONE
TZID:Europe/Berlin
X-LIC-LOCATION:Europe/Berlin
BEGIN:STANDARD
DTSTART:20061029T020000
TZNAME:CET
TZOFFSETFROM:+0200
TZOFFSETTO:+0100
END:STANDARD
END:VTIMEZONE
END:VCALENDAR
