BEGIN:VCALENDAR
VERSION:2.0
PRODID:-//Plone.org//NONSGML plone.app.event//EN
X-WR-TIMEZONE:Europe/Berlin
BEGIN:VEVENT
SUMMARY:The Globe
DTSTART;TZID=Europe/Berlin:20061104T210000
DTSTAMP:20260421T173819Z
UID:4ef3725cf89a4cd6812d7bcc2c5cc11e@zmi.spielboden.at
CREATED:20120822T144800Z
DESCRIPTION:World-Music-Dance-Event
LAST-MODIFIED:20210809T123850Z
URL:https://zmi.spielboden.at/Plone/veranstaltungen/2006/11_november/2006-
 11-04-21-00-the-globe
END:VEVENT
BEGIN:VTIMEZONE
TZID:Europe/Berlin
X-LIC-LOCATION:Europe/Berlin
BEGIN:STANDARD
DTSTART:20061029T020000
TZNAME:CET
TZOFFSETFROM:+0200
TZOFFSETTO:+0100
END:STANDARD
END:VTIMEZONE
END:VCALENDAR
