BEGIN:VCALENDAR
VERSION:2.0
PRODID:-//Plone.org//NONSGML plone.app.event//EN
X-WR-TIMEZONE:Europe/Berlin
BEGIN:VEVENT
SUMMARY:indie pop\, alternative sound und video clips mit dj ernesto
DTSTART;TZID=Europe/Berlin:20061101T210000
DTSTAMP:20260421T185631Z
UID:db250b6b6db14835810a8b5bb6d66305@zmi.spielboden.at
CREATED:20120822T144814Z
LAST-MODIFIED:20210809T123853Z
URL:https://zmi.spielboden.at/Plone/veranstaltungen/2006/11_november/2006-
 11-01-21-00-indie-pop-alternative-sound-und-video-clips-mit-dj-ernesto
END:VEVENT
BEGIN:VTIMEZONE
TZID:Europe/Berlin
X-LIC-LOCATION:Europe/Berlin
BEGIN:STANDARD
DTSTART:20061029T020000
TZNAME:CET
TZOFFSETFROM:+0200
TZOFFSETTO:+0100
END:STANDARD
END:VTIMEZONE
END:VCALENDAR
