BEGIN:VCALENDAR
VERSION:2.0
PRODID:-//Plone.org//NONSGML plone.app.event//EN
X-WR-TIMEZONE:Europe/Berlin
BEGIN:VEVENT
SUMMARY:Depeche Mode and more - Party
DTSTART;TZID=Europe/Berlin:20061028T210000
DTSTAMP:20260422T003248Z
UID:757ed01cb01540dd9d107f4dd5aae34e@zmi.spielboden.at
CREATED:20120822T144740Z
LAST-MODIFIED:20210809T123843Z
URL:https://zmi.spielboden.at/Plone/veranstaltungen/2006/10_oktober/2006-1
 0-28-21-00-depeche-mode-and-more-party
END:VEVENT
BEGIN:VTIMEZONE
TZID:Europe/Berlin
X-LIC-LOCATION:Europe/Berlin
BEGIN:DAYLIGHT
DTSTART:20060326T030000
TZNAME:CEST
TZOFFSETFROM:+0100
TZOFFSETTO:+0200
END:DAYLIGHT
END:VTIMEZONE
END:VCALENDAR
